Package: bigmelon Version: 1.26.0 Command: /Library/Frameworks/R.framework/Resources/bin/R CMD check --install=check:bigmelon.install-out.txt --library=/Library/Frameworks/R.framework/Resources/library --no-vignettes --timings bigmelon_1.26.0.tar.gz StartedAt: 2023-10-15 22:55:42 -0400 (Sun, 15 Oct 2023) EndedAt: 2023-10-15 23:13:12 -0400 (Sun, 15 Oct 2023) EllapsedTime: 1049.7 seconds RetCode: 0 Status: OK CheckDir: bigmelon.Rcheck Warnings: 0