Package: bigmelon Version: 1.26.0 Command: rm -rf bigmelon.buildbin-libdir && mkdir bigmelon.buildbin-libdir && /Users/biocbuild/BBS/utils/build-universal.sh bigmelon_1.26.0.tar.gz /Library/Frameworks/R.framework/Resources/bin/R bigmelon.buildbin-libdir StartedAt: 2023-10-16 09:01:09 -0400 (Mon, 16 Oct 2023) EndedAt: 2023-10-16 09:04:13 -0400 (Mon, 16 Oct 2023) EllapsedTime: 183.7 seconds RetCode: 0 Status: OK PackageFile: bigmelon_1.26.0.tgz PackageFileSize: 1.173 MiB