Package: bigPint Version: 1.16.0 Command: F:\biocbuild\bbs-3.17-bioc\R\bin\R.exe CMD INSTALL bigPint StartedAt: 2023-10-15 16:28:51 -0400 (Sun, 15 Oct 2023) EndedAt: 2023-10-15 16:29:28 -0400 (Sun, 15 Oct 2023) EllapsedTime: 37.1 seconds RetCode: 0 Status: OK