Package: bigPint Version: 1.16.0 Command: chmod a+r bigPint -R && F:\biocbuild\bbs-3.17-bioc\R\bin\R.exe CMD build --keep-empty-dirs --no-resave-data bigPint StartedAt: 2023-10-15 17:35:41 -0400 (Sun, 15 Oct 2023) EndedAt: 2023-10-15 17:36:38 -0400 (Sun, 15 Oct 2023) EllapsedTime: 57.0 seconds RetCode: 0 Status: OK PackageFile: bigPint_1.16.0.tar.gz PackageFileSize: 5.59 MiB