Package: bigPint Version: 1.16.0 Command: rm -rf bigPint.buildbin-libdir && mkdir bigPint.buildbin-libdir && F:\biocbuild\bbs-3.17-bioc\R\bin\R.exe CMD INSTALL --build --library=bigPint.buildbin-libdir bigPint_1.16.0.tar.gz StartedAt: 2023-10-16 08:28:25 -0400 (Mon, 16 Oct 2023) EndedAt: 2023-10-16 08:29:06 -0400 (Mon, 16 Oct 2023) EllapsedTime: 41.2 seconds RetCode: 0 Status: OK PackageFile: bigPint_1.16.0.zip PackageFileSize: 5.631 MiB