Package: bigPint Version: 1.16.0 Command: /home/biocbuild/bbs-3.17-bioc/R/bin/R CMD build --keep-empty-dirs --no-resave-data bigPint StartedAt: 2023-10-15 16:03:30 -0400 (Sun, 15 Oct 2023) EndedAt: 2023-10-15 16:04:08 -0400 (Sun, 15 Oct 2023) EllapsedTime: 37.9 seconds RetCode: 0 Status: OK PackageFile: bigPint_1.16.0.tar.gz PackageFileSize: 5.59 MiB