Package: bigPint Version: 1.16.0 Command: /Library/Frameworks/R.framework/Resources/bin/R CMD check --install=check:bigPint.install-out.txt --library=/Library/Frameworks/R.framework/Resources/library --no-vignettes --timings bigPint_1.16.0.tar.gz StartedAt: 2023-10-15 22:55:57 -0400 (Sun, 15 Oct 2023) EndedAt: 2023-10-15 23:03:35 -0400 (Sun, 15 Oct 2023) EllapsedTime: 458.3 seconds RetCode: 1 Status: ERROR CheckDir: bigPint.Rcheck Warnings: NA