Package: bgx Version: 1.66.0 Command: F:\biocbuild\bbs-3.17-bioc\R\bin\R.exe CMD INSTALL bgx StartedAt: 2023-10-15 15:56:33 -0400 (Sun, 15 Oct 2023) EndedAt: 2023-10-15 15:57:22 -0400 (Sun, 15 Oct 2023) EllapsedTime: 49.3 seconds RetCode: 0 Status: OK