Package: bgx Version: 1.66.0 Command: chmod a+r bgx -R && F:\biocbuild\bbs-3.17-bioc\R\bin\R.exe CMD build --keep-empty-dirs --no-resave-data bgx StartedAt: 2023-10-15 17:33:16 -0400 (Sun, 15 Oct 2023) EndedAt: 2023-10-15 17:35:39 -0400 (Sun, 15 Oct 2023) EllapsedTime: 143.9 seconds RetCode: 0 Status: OK PackageFile: bgx_1.66.0.tar.gz PackageFileSize: 2.146 MiB