git_url: https://git.bioconductor.org/packages/bgx git_branch: RELEASE_3_17 git_last_commit: 21cf621 git_last_commit_date: 2023-04-25 09:45:24 -0400 (Tue, 25 Apr 2023) Package: bgx Version: 1.66.0 Maintainer: Ernest Turro MaintainerEmail: et341 at cam.ac.uk