Package: beer Version: 1.4.0 Command: /Library/Frameworks/R.framework/Resources/bin/R CMD check --install=check:beer.install-out.txt --library=/Library/Frameworks/R.framework/Resources/library --no-vignettes --timings beer_1.4.0.tar.gz StartedAt: 2023-10-15 22:54:06 -0400 (Sun, 15 Oct 2023) EndedAt: 2023-10-15 23:20:09 -0400 (Sun, 15 Oct 2023) EllapsedTime: 1562.3 seconds RetCode: 0 Status: OK CheckDir: beer.Rcheck Warnings: 0