Package: beadarraySNP Version: 1.66.0 Command: F:\biocbuild\bbs-3.17-bioc\R\bin\R.exe CMD check --no-multiarch --install=check:beadarraySNP.install-out.txt --library=F:\biocbuild\bbs-3.17-bioc\R\library --no-vignettes --timings beadarraySNP_1.66.0.tar.gz StartedAt: 2023-10-15 23:46:29 -0400 (Sun, 15 Oct 2023) EndedAt: 2023-10-15 23:47:46 -0400 (Sun, 15 Oct 2023) EllapsedTime: 76.6 seconds RetCode: 0 Status: OK CheckDir: beadarraySNP.Rcheck Warnings: 0