Package: beadarraySNP Version: 1.66.0 Command: /home/biocbuild/bbs-3.17-bioc/R/bin/R CMD build --keep-empty-dirs --no-resave-data beadarraySNP StartedAt: 2023-10-15 16:01:04 -0400 (Sun, 15 Oct 2023) EndedAt: 2023-10-15 16:01:23 -0400 (Sun, 15 Oct 2023) EllapsedTime: 19.0 seconds RetCode: 0 Status: OK PackageFile: beadarraySNP_1.66.0.tar.gz PackageFileSize: 571.1 KiB