Package: beadarraySNP Version: 1.66.0 Command: /Library/Frameworks/R.framework/Resources/bin/R CMD INSTALL beadarraySNP StartedAt: 2023-10-15 16:05:41 -0400 (Sun, 15 Oct 2023) EndedAt: 2023-10-15 16:06:18 -0400 (Sun, 15 Oct 2023) EllapsedTime: 37.9 seconds RetCode: 0 Status: OK