Package: beadarraySNP Version: 1.66.0 Command: /Library/Frameworks/R.framework/Resources/bin/R CMD check --install=check:beadarraySNP.install-out.txt --library=/Library/Frameworks/R.framework/Resources/library --no-vignettes --timings beadarraySNP_1.66.0.tar.gz StartedAt: 2023-10-15 22:52:41 -0400 (Sun, 15 Oct 2023) EndedAt: 2023-10-15 22:55:42 -0400 (Sun, 15 Oct 2023) EllapsedTime: 181.6 seconds RetCode: 0 Status: OK CheckDir: beadarraySNP.Rcheck Warnings: 0