Package: beadarray Version: 2.50.0 Command: chmod a+r beadarray -R && F:\biocbuild\bbs-3.17-bioc\R\bin\R.exe CMD build --keep-empty-dirs --no-resave-data beadarray StartedAt: 2023-10-15 17:30:42 -0400 (Sun, 15 Oct 2023) EndedAt: 2023-10-15 17:34:59 -0400 (Sun, 15 Oct 2023) EllapsedTime: 257.7 seconds RetCode: 0 Status: OK PackageFile: beadarray_2.50.0.tar.gz PackageFileSize: 2.168 MiB