Package: beadarray Version: 2.50.0 Command: /Library/Frameworks/R.framework/Resources/bin/R CMD build --keep-empty-dirs --no-resave-data beadarray StartedAt: 2023-10-15 16:52:28 -0400 (Sun, 15 Oct 2023) EndedAt: 2023-10-15 17:00:23 -0400 (Sun, 15 Oct 2023) EllapsedTime: 475.0 seconds RetCode: 0 Status: OK PackageFile: beadarray_2.50.0.tar.gz PackageFileSize: 2.427 MiB