Package: baySeq Version: 2.33.0 Command: rm -rf baySeq.buildbin-libdir && mkdir baySeq.buildbin-libdir && /Users/biocbuild/BBS/utils/build-universal.sh baySeq_2.33.0.tar.gz /Library/Frameworks/R.framework/Resources/bin/R baySeq.buildbin-libdir StartedAt: 2022-11-09 08:40:07 -0500 (Wed, 09 Nov 2022) EndedAt: 2022-11-09 08:41:10 -0500 (Wed, 09 Nov 2022) EllapsedTime: 63.5 seconds RetCode: 0 Status: OK PackageFile: baySeq_2.33.0.tgz PackageFileSize: 1.571 MiB