Package: bayNorm Version: 1.18.1 Command: F:\biocbuild\bbs-3.17-bioc\R\bin\R.exe CMD INSTALL bayNorm StartedAt: 2023-10-15 16:38:39 -0400 (Sun, 15 Oct 2023) EndedAt: 2023-10-15 16:39:34 -0400 (Sun, 15 Oct 2023) EllapsedTime: 55.1 seconds RetCode: 0 Status: OK