Package: bayNorm Version: 1.18.1 Command: F:\biocbuild\bbs-3.17-bioc\R\bin\R.exe CMD check --no-multiarch --install=check:bayNorm.install-out.txt --library=F:\biocbuild\bbs-3.17-bioc\R\library --no-vignettes --timings bayNorm_1.18.1.tar.gz StartedAt: 2023-10-15 23:44:01 -0400 (Sun, 15 Oct 2023) EndedAt: 2023-10-15 23:46:52 -0400 (Sun, 15 Oct 2023) EllapsedTime: 170.6 seconds RetCode: 0 Status: OK CheckDir: bayNorm.Rcheck Warnings: 0