Package: bayNorm Version: 1.18.1 Command: chmod a+r bayNorm -R && F:\biocbuild\bbs-3.17-bioc\R\bin\R.exe CMD build --keep-empty-dirs --no-resave-data bayNorm StartedAt: 2023-10-15 17:29:26 -0400 (Sun, 15 Oct 2023) EndedAt: 2023-10-15 17:30:35 -0400 (Sun, 15 Oct 2023) EllapsedTime: 68.8 seconds RetCode: 0 Status: OK PackageFile: bayNorm_1.18.1.tar.gz PackageFileSize: 1.526 MiB