Package: bayNorm Version: 1.18.1 Command: rm -rf bayNorm.buildbin-libdir && mkdir bayNorm.buildbin-libdir && F:\biocbuild\bbs-3.17-bioc\R\bin\R.exe CMD INSTALL --build --library=bayNorm.buildbin-libdir bayNorm_1.18.1.tar.gz StartedAt: 2023-10-16 08:27:14 -0400 (Mon, 16 Oct 2023) EndedAt: 2023-10-16 08:28:13 -0400 (Mon, 16 Oct 2023) EllapsedTime: 59.0 seconds RetCode: 0 Status: OK PackageFile: bayNorm_1.18.1.zip PackageFileSize: 856.3 KiB