Package: bayNorm Version: 1.18.1 Command: /home/biocbuild/bbs-3.17-bioc/R/bin/R CMD build --keep-empty-dirs --no-resave-data bayNorm StartedAt: 2023-10-15 16:00:39 -0400 (Sun, 15 Oct 2023) EndedAt: 2023-10-15 16:01:40 -0400 (Sun, 15 Oct 2023) EllapsedTime: 61.1 seconds RetCode: 0 Status: OK PackageFile: bayNorm_1.18.1.tar.gz PackageFileSize: 1.526 MiB