Package: bayNorm Version: 1.18.1 Command: /Library/Frameworks/R.framework/Resources/bin/R CMD INSTALL bayNorm StartedAt: 2023-10-15 16:01:44 -0400 (Sun, 15 Oct 2023) EndedAt: 2023-10-15 16:04:04 -0400 (Sun, 15 Oct 2023) EllapsedTime: 139.5 seconds RetCode: 0 Status: OK