Package: bayNorm Version: 1.18.1 Command: /Library/Frameworks/R.framework/Resources/bin/R CMD check --install=check:bayNorm.install-out.txt --library=/Library/Frameworks/R.framework/Resources/library --no-vignettes --timings bayNorm_1.18.1.tar.gz StartedAt: 2023-10-15 22:49:24 -0400 (Sun, 15 Oct 2023) EndedAt: 2023-10-15 22:55:57 -0400 (Sun, 15 Oct 2023) EllapsedTime: 393.3 seconds RetCode: 0 Status: OK CheckDir: bayNorm.Rcheck Warnings: 0