Package: bayNorm Version: 1.18.1 Command: /Library/Frameworks/R.framework/Resources/bin/R CMD build --keep-empty-dirs --no-resave-data bayNorm StartedAt: 2023-10-15 16:51:35 -0400 (Sun, 15 Oct 2023) EndedAt: 2023-10-15 16:54:23 -0400 (Sun, 15 Oct 2023) EllapsedTime: 168.2 seconds RetCode: 0 Status: OK PackageFile: bayNorm_1.18.1.tar.gz PackageFileSize: 1.526 MiB