Package: bayNorm Version: 1.18.1 Command: rm -rf bayNorm.buildbin-libdir && mkdir bayNorm.buildbin-libdir && /Users/biocbuild/BBS/utils/build-universal.sh bayNorm_1.18.1.tar.gz /Library/Frameworks/R.framework/Resources/bin/R bayNorm.buildbin-libdir StartedAt: 2023-10-16 09:00:14 -0400 (Mon, 16 Oct 2023) EndedAt: 2023-10-16 09:02:53 -0400 (Mon, 16 Oct 2023) EllapsedTime: 158.8 seconds RetCode: 0 Status: OK PackageFile: bayNorm_1.18.1.tgz PackageFileSize: 476.8 KiB