Package: batchelor Version: 1.16.0 Command: /home/biocbuild/bbs-3.17-bioc/R/bin/R CMD build --keep-empty-dirs --no-resave-data batchelor StartedAt: 2023-10-15 16:00:09 -0400 (Sun, 15 Oct 2023) EndedAt: 2023-10-15 16:04:40 -0400 (Sun, 15 Oct 2023) EllapsedTime: 271.4 seconds RetCode: 0 Status: OK PackageFile: batchelor_1.16.0.tar.gz PackageFileSize: 1.927 MiB