Package: batchelor Version: 1.16.0 Command: /Library/Frameworks/R.framework/Resources/bin/R CMD INSTALL batchelor StartedAt: 2023-10-15 16:15:49 -0400 (Sun, 15 Oct 2023) EndedAt: 2023-10-15 16:18:19 -0400 (Sun, 15 Oct 2023) EllapsedTime: 149.6 seconds RetCode: 0 Status: OK