Package: batchelor Version: 1.16.0 Command: /Library/Frameworks/R.framework/Resources/bin/R CMD check --install=check:batchelor.install-out.txt --library=/Library/Frameworks/R.framework/Resources/library --no-vignettes --timings batchelor_1.16.0.tar.gz StartedAt: 2023-10-15 22:48:38 -0400 (Sun, 15 Oct 2023) EndedAt: 2023-10-15 23:07:32 -0400 (Sun, 15 Oct 2023) EllapsedTime: 1133.7 seconds RetCode: 0 Status: OK CheckDir: batchelor.Rcheck Warnings: 0