Package: basilisk Version: 1.12.1 Command: /home/biocbuild/bbs-3.17-bioc/R/bin/R CMD build --keep-empty-dirs --no-resave-data basilisk StartedAt: 2023-10-15 16:00:04 -0400 (Sun, 15 Oct 2023) EndedAt: 2023-10-15 16:04:05 -0400 (Sun, 15 Oct 2023) EllapsedTime: 241.2 seconds RetCode: 0 Status: OK PackageFile: basilisk_1.12.1.tar.gz PackageFileSize: 261 KiB