Package: basilisk.utils Version: 1.12.1 Command: F:\biocbuild\bbs-3.17-bioc\R\bin\R.exe CMD INSTALL basilisk.utils StartedAt: 2023-10-15 15:52:45 -0400 (Sun, 15 Oct 2023) EndedAt: 2023-10-15 15:52:55 -0400 (Sun, 15 Oct 2023) EllapsedTime: 10.0 seconds RetCode: 0 Status: OK