Package: basilisk.utils Version: 1.12.1 Command: chmod a+r basilisk.utils -R && F:\biocbuild\bbs-3.17-bioc\R\bin\R.exe CMD build --keep-empty-dirs --no-resave-data basilisk.utils StartedAt: 2023-10-15 17:29:11 -0400 (Sun, 15 Oct 2023) EndedAt: 2023-10-15 17:29:19 -0400 (Sun, 15 Oct 2023) EllapsedTime: 8.0 seconds RetCode: 0 Status: OK PackageFile: basilisk.utils_1.12.1.tar.gz PackageFileSize: 234.4 KiB