Package: basilisk.utils Version: 1.12.1 Command: /Library/Frameworks/R.framework/Resources/bin/R CMD check --install=check:basilisk.utils.install-out.txt --library=/Library/Frameworks/R.framework/Resources/library --no-vignettes --timings basilisk.utils_1.12.1.tar.gz StartedAt: 2023-10-15 22:48:35 -0400 (Sun, 15 Oct 2023) EndedAt: 2023-10-15 22:49:23 -0400 (Sun, 15 Oct 2023) EllapsedTime: 48.5 seconds RetCode: 0 Status: OK CheckDir: basilisk.utils.Rcheck Warnings: 0