Package: basilisk.utils Version: 1.12.1 Command: rm -rf basilisk.utils.buildbin-libdir && mkdir basilisk.utils.buildbin-libdir && /Users/biocbuild/BBS/utils/build-universal.sh basilisk.utils_1.12.1.tar.gz /Library/Frameworks/R.framework/Resources/bin/R basilisk.utils.buildbin-libdir StartedAt: 2023-10-16 09:00:02 -0400 (Mon, 16 Oct 2023) EndedAt: 2023-10-16 09:00:26 -0400 (Mon, 16 Oct 2023) EllapsedTime: 23.9 seconds RetCode: 0 Status: OK PackageFile: basilisk.utils_1.12.1.tgz PackageFileSize: 283 KiB