Package: basecallQC Version: 1.24.0 Command: rm -rf basecallQC.buildbin-libdir && mkdir basecallQC.buildbin-libdir && F:\biocbuild\bbs-3.17-bioc\R\bin\R.exe CMD INSTALL --build --library=basecallQC.buildbin-libdir basecallQC_1.24.0.tar.gz StartedAt: 2023-10-16 08:26:37 -0400 (Mon, 16 Oct 2023) EndedAt: 2023-10-16 08:27:41 -0400 (Mon, 16 Oct 2023) EllapsedTime: 63.8 seconds RetCode: 0 Status: OK PackageFile: basecallQC_1.24.0.zip PackageFileSize: 1.133 MiB