Package: basecallQC Version: 1.24.0 Command: /Library/Frameworks/R.framework/Resources/bin/R CMD INSTALL basecallQC StartedAt: 2023-10-15 15:45:32 -0400 (Sun, 15 Oct 2023) EndedAt: 2023-10-15 15:48:14 -0400 (Sun, 15 Oct 2023) EllapsedTime: 161.9 seconds RetCode: 0 Status: OK