Package: basecallQC Version: 1.24.0 Command: /Library/Frameworks/R.framework/Resources/bin/R CMD check --install=check:basecallQC.install-out.txt --library=/Library/Frameworks/R.framework/Resources/library --no-vignettes --timings basecallQC_1.24.0.tar.gz StartedAt: 2023-10-15 22:45:14 -0400 (Sun, 15 Oct 2023) EndedAt: 2023-10-15 23:03:47 -0400 (Sun, 15 Oct 2023) EllapsedTime: 1113.3 seconds RetCode: 0 Status: OK CheckDir: basecallQC.Rcheck Warnings: 0