Package: barcodetrackR Version: 1.8.0 Command: F:\biocbuild\bbs-3.17-bioc\R\bin\R.exe CMD INSTALL barcodetrackR StartedAt: 2023-10-15 16:31:58 -0400 (Sun, 15 Oct 2023) EndedAt: 2023-10-15 16:32:29 -0400 (Sun, 15 Oct 2023) EllapsedTime: 30.5 seconds RetCode: 0 Status: OK