Package: barcodetrackR Version: 1.8.0 Command: rm -rf barcodetrackR.buildbin-libdir && mkdir barcodetrackR.buildbin-libdir && F:\biocbuild\bbs-3.17-bioc\R\bin\R.exe CMD INSTALL --build --library=barcodetrackR.buildbin-libdir barcodetrackR_1.8.0.tar.gz StartedAt: 2023-10-16 08:26:35 -0400 (Mon, 16 Oct 2023) EndedAt: 2023-10-16 08:27:13 -0400 (Mon, 16 Oct 2023) EllapsedTime: 37.7 seconds RetCode: 0 Status: OK PackageFile: barcodetrackR_1.8.0.zip PackageFileSize: 2.054 MiB