Package: banocc Version: 1.24.0 Command: /home/biocbuild/bbs-3.17-bioc/R/bin/R CMD build --keep-empty-dirs --no-resave-data banocc StartedAt: 2023-10-15 15:59:25 -0400 (Sun, 15 Oct 2023) EndedAt: 2023-10-15 16:02:29 -0400 (Sun, 15 Oct 2023) EllapsedTime: 184.6 seconds RetCode: 0 Status: OK PackageFile: banocc_1.24.0.tar.gz PackageFileSize: 25.95 MiB