Package: banocc Version: 1.24.0 Command: /Library/Frameworks/R.framework/Resources/bin/R CMD check --install=check:banocc.install-out.txt --library=/Library/Frameworks/R.framework/Resources/library --no-vignettes --timings banocc_1.24.0.tar.gz StartedAt: 2023-10-15 22:44:52 -0400 (Sun, 15 Oct 2023) EndedAt: 2023-10-15 22:49:15 -0400 (Sun, 15 Oct 2023) EllapsedTime: 263.3 seconds RetCode: 0 Status: OK CheckDir: banocc.Rcheck Warnings: 0