Package: banocc Version: 1.24.0 Command: /Library/Frameworks/R.framework/Resources/bin/R CMD build --keep-empty-dirs --no-resave-data banocc StartedAt: 2023-10-15 16:49:48 -0400 (Sun, 15 Oct 2023) EndedAt: 2023-10-15 16:54:53 -0400 (Sun, 15 Oct 2023) EllapsedTime: 305.3 seconds RetCode: 0 Status: OK PackageFile: banocc_1.24.0.tar.gz PackageFileSize: 26 MiB