Package: bamsignals Version: 1.32.0 Command: rm -rf bamsignals.buildbin-libdir && mkdir bamsignals.buildbin-libdir && F:\biocbuild\bbs-3.17-bioc\R\bin\R.exe CMD INSTALL --build --library=bamsignals.buildbin-libdir bamsignals_1.32.0.tar.gz StartedAt: 2023-10-16 08:26:29 -0400 (Mon, 16 Oct 2023) EndedAt: 2023-10-16 08:27:21 -0400 (Mon, 16 Oct 2023) EllapsedTime: 52.9 seconds RetCode: 0 Status: OK PackageFile: bamsignals_1.32.0.zip PackageFileSize: 6.162 MiB