Package: bamsignals Version: 1.32.0 Command: /home/biocbuild/bbs-3.17-bioc/R/bin/R CMD check --install=check:bamsignals.install-out.txt --library=/home/biocbuild/bbs-3.17-bioc/R/site-library --timings bamsignals_1.32.0.tar.gz StartedAt: 2023-10-15 19:20:52 -0400 (Sun, 15 Oct 2023) EndedAt: 2023-10-15 19:22:39 -0400 (Sun, 15 Oct 2023) EllapsedTime: 107.1 seconds RetCode: 0 Status: WARNINGS CheckDir: bamsignals.Rcheck Warnings: 1