Package: bamsignals Version: 1.32.0 Command: /Library/Frameworks/R.framework/Resources/bin/R CMD INSTALL bamsignals StartedAt: 2023-10-15 15:11:11 -0400 (Sun, 15 Oct 2023) EndedAt: 2023-10-15 15:12:43 -0400 (Sun, 15 Oct 2023) EllapsedTime: 91.8 seconds RetCode: 0 Status: OK