Package: bamsignals Version: 1.32.0 Command: /Library/Frameworks/R.framework/Resources/bin/R CMD check --install=check:bamsignals.install-out.txt --library=/Library/Frameworks/R.framework/Resources/library --no-vignettes --timings bamsignals_1.32.0.tar.gz StartedAt: 2023-10-15 22:43:00 -0400 (Sun, 15 Oct 2023) EndedAt: 2023-10-15 22:47:27 -0400 (Sun, 15 Oct 2023) EllapsedTime: 267.2 seconds RetCode: 0 Status: WARNINGS CheckDir: bamsignals.Rcheck Warnings: 1