Package: bamsignals Version: 1.32.0 Command: /Library/Frameworks/R.framework/Resources/bin/R CMD build --keep-empty-dirs --no-resave-data bamsignals StartedAt: 2023-10-15 16:48:58 -0400 (Sun, 15 Oct 2023) EndedAt: 2023-10-15 16:50:28 -0400 (Sun, 15 Oct 2023) EllapsedTime: 89.8 seconds RetCode: 0 Status: OK PackageFile: bamsignals_1.32.0.tar.gz PackageFileSize: 3.099 MiB