Package: bamsignals Version: 1.32.0 Command: rm -rf bamsignals.buildbin-libdir && mkdir bamsignals.buildbin-libdir && /Users/biocbuild/BBS/utils/build-universal.sh bamsignals_1.32.0.tar.gz /Library/Frameworks/R.framework/Resources/bin/R bamsignals.buildbin-libdir StartedAt: 2023-10-16 08:59:24 -0400 (Mon, 16 Oct 2023) EndedAt: 2023-10-16 09:00:57 -0400 (Mon, 16 Oct 2023) EllapsedTime: 93.1 seconds RetCode: 0 Status: OK PackageFile: bamsignals_1.32.0.tgz PackageFileSize: 2.687 MiB