Package: bambu Version: 3.2.6 Command: F:\biocbuild\bbs-3.17-bioc\R\bin\R.exe CMD check --no-multiarch --install=check:bambu.install-out.txt --library=F:\biocbuild\bbs-3.17-bioc\R\library --no-vignettes --timings bambu_3.2.6.tar.gz StartedAt: 2023-10-15 23:37:52 -0400 (Sun, 15 Oct 2023) EndedAt: 2023-10-15 23:45:37 -0400 (Sun, 15 Oct 2023) EllapsedTime: 464.1 seconds RetCode: 0 Status: OK CheckDir: bambu.Rcheck Warnings: 0